30.0000000000
0.0000000000
0.0000000000
-30.0000000000
-2307169.8436999992
2764443.4475999996
