30.0000000000
0.0000000000
0.0000000000
-30.0000000000
-2307195.0000000009
2764438.9773666491
