250.0000000000
0.0000000000
0.0000000000
-250.0000000000
-2341045.4601000026
3833177.9128295267
